BEGIN:VCALENDAR
VERSION:2.0
PRODID:-//Eureka UMH - ECPv5.11.0//NONSGML v1.0//EN
CALSCALE:GREGORIAN
METHOD:PUBLISH
X-WR-CALNAME:Eureka UMH
X-ORIGINAL-URL:https://eureka.umh.es
X-WR-CALDESC:Eventos para Eureka UMH
BEGIN:VTIMEZONE
TZID:Europe/Madrid
BEGIN:DAYLIGHT
TZOFFSETFROM:+0100
TZOFFSETTO:+0200
TZNAME:CEST
DTSTART:20230326T010000
END:DAYLIGHT
BEGIN:STANDARD
TZOFFSETFROM:+0200
TZOFFSETTO:+0100
TZNAME:CET
DTSTART:20231029T010000
END:STANDARD
END:VTIMEZONE
BEGIN:VEVENT
DTSTART;TZID=Europe/Madrid:20230629T203000
DTEND;TZID=Europe/Madrid:20230629T223000
DTSTAMP:20260423T001549
CREATED:20240306T090152Z
LAST-MODIFIED:20240527T103119Z
UID:869-1688070600-1688077800@eureka.umh.es
SUMMARY:Eureka! con David Cabañero y Ana Belén Ropero
DESCRIPTION:En esta edición intervendrán el investigador de Neurobiología Sensorial David Cabañero\, quien impartirá la charla ‘Sexo para el dolor de cabeza’; y la profesora de Nutrición y Bromatología Ana Belén Ropero\, que impartirá la ponencia ‘Productos ecológicos\, ¿mejores que los normales?’.
URL:https://eureka.umh.es/evento/eureka-con-david-cabanero-y-ana-belen-ropero/
LOCATION:La Puerta Verde\, C. Mestre Albéniz\, 8\, Elche\, Alicante\, 03202\, España
ATTACH;FMTTYPE=image/jpeg:https://eureka.umh.es/files/2024/03/29-6-2023.jpg
END:VEVENT
END:VCALENDAR