BEGIN:VCALENDAR
VERSION:2.0
PRODID:-//Eureka UMH - ECPv5.11.0//NONSGML v1.0//EN
CALSCALE:GREGORIAN
METHOD:PUBLISH
X-WR-CALNAME:Eureka UMH
X-ORIGINAL-URL:https://eureka.umh.es
X-WR-CALDESC:Eventos para Eureka UMH
BEGIN:VTIMEZONE
TZID:Europe/Madrid
BEGIN:DAYLIGHT
TZOFFSETFROM:+0100
TZOFFSETTO:+0200
TZNAME:CEST
DTSTART:20230326T010000
END:DAYLIGHT
BEGIN:STANDARD
TZOFFSETFROM:+0200
TZOFFSETTO:+0100
TZNAME:CET
DTSTART:20231029T010000
END:STANDARD
END:VTIMEZONE
BEGIN:VEVENT
DTSTART;TZID=Europe/Madrid:20230427T203000
DTEND;TZID=Europe/Madrid:20230427T223000
DTSTAMP:20260419T160522
CREATED:20240305T122337Z
LAST-MODIFIED:20240527T103552Z
UID:840-1682627400-1682634600@eureka.umh.es
SUMMARY:Eureka! con David Vila y la empresa Oscillum
DESCRIPTION:En la sesión participarán el profesor de Arte David Vila Moscardo con la ponencia ‘La creación artística como motor de generación de conocimiento. Estudio de caso’; y la empresa biotecnóloga del Parque Científico de la UMH Oscillum con sus fundadores Luis Chimeno Moral\, Pilar Granado García y Pablo Sosa Domínguez\, quienes hablará sobre ‘¿Emprender en ciencia? Sí\, y si puedes comer de ello\, mejor’. Por su parte\, el matemático\, divulgador científico y profesor de la UMH Santiago García Cremades y la estudiante del doble Grado en Comunicación Audiovisual y Periodismo de la Universidad Noelia García Moreno presentarán el encuentro.
URL:https://eureka.umh.es/evento/eureka-con-jorge-luis-garrido-cruz-y-coral-moya-cuenca/
LOCATION:El 33 Bar & Drinks\, Cases Mare de Déu Bajo\, 7\, Elche\, Alicante\, 03202
ATTACH;FMTTYPE=image/jpeg:https://eureka.umh.es/files/2024/03/27-4-2023.jpg
END:VEVENT
END:VCALENDAR